Workbook

Sheet Főösszesítő
A1: MEGGYESKOVÁCSI KÖZSÉG ÖNKORMÁNYZATA | C1: Készítette:
A2: 9757 MEGGYESKOVÁCSI, MÁRCIUS 15. TÉR 1.
C4: Készült:
C5: Érvényes:
A8: MEGGYESKOVÁCSI ÓVODA ENERGETIKAI
A9: KORSZERŰSÍTÉSE ÉS FELÚJÍTÁSA
A10: MAGYAR FALU PROGRAM KERETÉBEN
A13: Költségvetés főösszesítő
A14: Megnevezés | C14: Anyagköltség | D14: Díjköltség
A15: 1 Építmény közvetlen költségei | C15: ='Munkanem összesítő'!C13 -> 0 | D15: ='Munkanem összesítő'!D13 -> 0
A16: 2.1 ÁFA vetítési alap | C16: =ROUND(C15+D15,0) -> 0
A17: 2.2 ÁFA | B17: 0.27 | C17: =ROUND(C16*B17,0) -> 0
A18: 3 A munka ára (HUF) | C18: =ROUND(C17+C16,0) -> 0
C25: Aláírás

Sheet Munkanem összesítő
A1: Ssz. | B1: Megnevezés | C1: Anyagköltség | D1: Díjköltség
A2: 2 | B2: Bontás, építőanyagok újrahasznosítása | C2: ='2.Bontás, építőanyagok újraha'!H3 -> 0 | D2: ='2.Bontás, építőanyagok újraha'!I3 -> 0
A3: 15 | B3: Zsaluzás és állványozás | C3: ='15.Zsaluzás és állványozás'!H4 -> 0 | D3: ='15.Zsaluzás és állványozás'!I4 -> 0
A4: 21 | B4: Irtás, föld- és sziklamunka | C4: ='21.Irtás, föld- és sziklamunka'!H3 -> 0 | D4: ='21.Irtás, föld- és sziklamunka'!I3 -> 0
A5: 36 | B5: Vakolás és rabicolás | C5: ='36.Vakolás és rabicolás'!H5 -> 0 | D5: ='36.Vakolás és rabicolás'!I5 -> 0
A6: 39 | B6: Szárazépítés | C6: ='39.Szárazépítés'!H3 -> 0 | D6: ='39.Szárazépítés'!I3 -> 0
A7: 42 | B7: Hideg-, meleg- és homlokzatburkolatok készítése, aljzat előkészítése | C7: ='42.Hideg-, meleg- és homlokzat'!H7 -> 0 | D7: ='42.Hideg-, meleg- és homlokzat'!I7 -> 0
A8: 43 | B8: Bádogozás | C8: ='43.Bádogozás'!H4 -> 0 | D8: ='43.Bádogozás'!I4 -> 0
A9: 44 | B9: Fa- és műanyag szerkezet elhelyezése | C9: ='44.Fa- és műanyag szerkezet el'!H7 -> 0 | D9: ='44.Fa- és műanyag szerkezet el'!I7 -> 0
A10: 47 | B10: Felületképzés | C10: ='47.Felületképzés'!H6 -> 0 | D10: ='47.Felületképzés'!I6 -> 0
A11: 48 | B11: Szigetelés | C11: ='48.Szigetelés'!H8 -> 0 | D11: ='48.Szigetelés'!I8 -> 0
A12: 90 | B12: Ideiglenes felületvédelem és takarítási munkák | C12: ='90.Ideiglenes felületvédelem é'!H3 -> 0 | D12: ='90.Ideiglenes felületvédelem é'!I3 -> 0
B13: Összesen (HUF) | C13: =ROUND(SUM(C2:C12),0) -> 0 | D13: =ROUND(SUM(D2:D12),0) -> 0

Sheet 2.Bontás, építőanyagok újraha
A1: Ssz. | B1: Tételszám | C1: Tétel szövege | D1: Menny. | E1: Egység | F1: Anyag egységár | G1: Díj egységre | H1: Anyag összesen | I1: Díj összesen | J1: Megjegyzés | K1: ÉNGY kód | L1: K. jelző | M1: Munkanem | N1: Normaidő
A2: 1 | B2: 02-030-7.2 | C2: Vegyes építési- bontási törmelék berakása konténerbe gépi erővel, kiegészítő kézi munkával | D2: 24 | E2: m³ | F2: 0 | G2: 0 | H2: =ROUND(F2*D2,0) -> 0 | I2: =ROUND(G2*D2,0) -> 0 | K2: 20303277224 | L2: ÖN | M2: 2 | N2: 0.05
C3: Munkanem összesen (HUF) | H3: =ROUND(SUM(H2:H2),0) -> 0 | I3: =ROUND(SUM(I2:I2),0) -> 0

Sheet 15.Zsaluzás és állványozás
A1: Ssz. | B1: Tételszám | C1: Tétel szövege | D1: Menny. | E1: Egység | F1: Anyag egységár | G1: Díj egységre | H1: Anyag összesen | I1: Díj összesen | J1: Megjegyzés | K1: ÉNGY kód | L1: K. jelző | M1: Munkanem | N1: Normaidő
A2: 1 | B2: 15-012-6.1 | C2: Homlokzati csőállvány állítása állványcsőből mint munkaállvány, szintenkénti pallóterítéssel, korláttal, lábdeszkával, kétlábas, 0,60-0,90 m padlószélességgel, munkapadló távolság 2,00 m, 2,00 kN/m² terhelhetőséggel, állványépítés MSZ és alkalmazástechnikai kézikönyv szerint, 6,00 m munkapadló magasságig | D2: 251.35 | E2: m² | F2: 0 | G2: 0 | H2: =ROUND(F2*D2,0) -> 0 | I2: =ROUND(G2*D2,0) -> 0 | K2: 150120012425 | L2: ÖN | M2: 15 | N2: 0.48
A3: 2 | B3: 15-912-21.4-0013002 | C3: BÉRLETI DÍJ fém könnyű állványszerkezetek építéséhez, 10,5 m munkapadló magasságig, DECKMAN homlokzati állvány, horganyozott acél váz, acél járópallók, állítható csavaros talpak, horganyozott acél lábdeszkák, korlát végzárók (1 m2 bérleti díj/hó) | D3: 251.35 | E3: m² | F3: 0 | G3: 0 | H3: =ROUND(F3*D3,0) -> 0 | I3: =ROUND(G3*D3,0) -> 0 | K3: 159125226532 | L3: ÖN | M3: 15 | N3: 0
C4: Munkanem összesen (HUF) | H4: =ROUND(SUM(H2:H3),0) -> 0 | I4: =ROUND(SUM(I2:I3),0) -> 0

Sheet 21.Irtás, föld- és sziklamunka
A1: Ssz. | B1: Tételszám | C1: Tétel szövege | D1: Menny. | E1: Egység | F1: Anyag egységár | G1: Díj egységre | H1: Anyag összesen | I1: Díj összesen | J1: Megjegyzés | K1: ÉNGY kód | L1: K. jelző | M1: Munkanem | N1: Normaidő
A2: 1 | B2: 21-011-11.6 | C2: Építési törmelék konténeres elszállítása, lerakása, lerakóhelyi díjjal, 8,0 m³-es konténerbe | D2: 3 | E2: db | F2: 0 | G2: 0 | H2: =ROUND(F2*D2,0) -> 0 | I2: =ROUND(G2*D2,0) -> 0 | M2: 21 | N2: 0
C3: Munkanem összesen (HUF) | H3: =ROUND(SUM(H2:H2),0) -> 0 | I3: =ROUND(SUM(I2:I2),0) -> 0

Sheet 36.Vakolás és rabicolás
A1: Ssz. | B1: Tételszám | C1: Tétel szövege | D1: Menny. | E1: Egység | F1: Anyag egységár | G1: Díj egységre | H1: Anyag összesen | I1: Díj összesen | J1: Megjegyzés | K1: ÉNGY kód | L1: K. jelző | M1: Munkanem | N1: Normaidő
A2: 1 | B2: 36-090-1.2.2-0550090 | C2: Vakolatjavítás homlokzaton, a meglazult, sérült vakolat előzetes leverésével, durva, sima kivitelben, hiánypótlás 5-25% között, CS I-W1 (Hvh10-mc) kültéri, vakoló cementes mészhabarcs mészpéppel | D2: 50 | E2: m² | F2: 0 | G2: 0 | H2: =ROUND(F2*D2,0) -> 0 | I2: =ROUND(G2*D2,0) -> 0 | K2: 360900130042 | L2: ÖN | M2: 36 | N2: 0.19
A3: 2 | B3: 36-012-2.1.3.2-0415574 | C3: Szellőző, falszárító felújító vakolat készítése, alacsony és közepes só és nedvességtartalom esetén, felületelőkészítéssel (előfröcskölés vagy gúz), vakolatréteggel, kézi felhordással, összesen 2,5-3 cm vastagságban, Baumit NHL Manu cementmentes kézi alapvakolat, Cikkszám: 951763 Baumit NHL Pre Vorspritzer cementmentes előfröcskölő, Cikkszám: 951762 Lábazati részen a korábbi vizesedés helyén | D3: 10 | E3: m² | F3: 0 | G3: 0 | H3: =ROUND(F3*D3,0) -> 0 | I3: =ROUND(G3*D3,0) -> 0 | M3: 36 | N3: 0.73
A4: 3 | B4: 36-051-5.1 | C4: Élvédő profilok elhelyezése rozsdamentes acélból, pozitív sarkokhoz | D4: 22.5 | E4: m | F4: 0 | G4: 0 | H4: =ROUND(F4*D4,0) -> 0 | I4: =ROUND(G4*D4,0) -> 0 | K4: 360514030224 | L4: ÖN | M4: 36 | N4: 0.12
C5: Munkanem összesen (HUF) | H5: =ROUND(SUM(H2:H4),0) -> 0 | I5: =ROUND(SUM(I2:I4),0) -> 0

Sheet 39.Szárazépítés
A1: Ssz. | B1: Tételszám | C1: Tétel szövege | D1: Menny. | E1: Egység | F1: Anyag egységár | G1: Díj egységre | H1: Anyag összesen | I1: Díj összesen | J1: Megjegyzés | K1: ÉNGY kód | L1: K. jelző | M1: Munkanem | N1: Normaidő
A2: 1 | B2: 39-001-51.1.1-0120031 | C2: CW fém vázszerkezetre szerelt válaszfal 2 x 1 rtg. tűzgátló, 12,5 mm vtg. gipszkarton borítással, hőszigeteléssel, csavarfejek és illesztések glettelve (Q1), egyszeres, CW 50 tartóvázzal, RIGIPS tűzgátló építőlemez RF 12,5 mm, ásványi szálas hőszigetelés | D2: 7.07 | E2: m² | F2: 0 | G2: 0 | H2: =ROUND(F2*D2,0) -> 0 | I2: =ROUND(G2*D2,0) -> 0 | K2: 390010159452 | L2: ÖN | M2: 39 | N2: 1.16
C3: Munkanem összesen (HUF) | H3: =ROUND(SUM(H2:H2),0) -> 0 | I3: =ROUND(SUM(I2:I2),0) -> 0

Sheet 42.Hideg-, meleg- és homlokzat
A1: Ssz. | B1: Tételszám | C1: Tétel szövege | D1: Menny. | E1: Egység | F1: Anyag egységár | G1: Díj egységre | H1: Anyag összesen | I1: Díj összesen | J1: Megjegyzés | K1: ÉNGY kód | L1: K. jelző | M1: Munkanem | N1: Normaidő
A2: 1 | B2: 42-000-3.8 | C2: Fa-, hézagmentes műanyag- és szőnyegburkolatok bontása, szalagparketta, laminált padló | D2: 7.4 | E2: m² | F2: 0 | G2: 0 | H2: =ROUND(F2*D2,0) -> 0 | I2: =ROUND(G2*D2,0) -> 0 | K2: 420004518063 | L2: ÖN | M2: 42 | N2: 0.15
A3: 2 | B3: 42-041-3.1.1.1-0310222 | C3: Meglévő aljzat kiegyenlítése, rugalmas burkolat alá, parketta és laminált padló úsztatott fektetéséhez, (általános igénybevétel) ragasztóval szennyezett betonaljzat (cementesztrich) felület előkészítése, 3 mm vastagságban, weber.niv profi önterülő aljzatkiegyenlítő, Kód: M635 webercol bondprimer tapadóhíd, 15 kg-os kiszerelésben, Kód: G651 15 | D3: 7.4 | E3: m² | F3: 0 | G3: 0 | H3: =ROUND(F3*D3,0) -> 0 | I3: =ROUND(G3*D3,0) -> 0 | K3: 420410272470 | L3: ÖN | M3: 42 | N3: 0.56
A4: 3 | B4: 42-042-5.1.8-0316002 | C4: Laminált padló fektetése (szegélyléccel együtt), kiegyenlített aljzatra, parketta alátétlemez elhelyezése, FLOORMAT XPS alapú barázdált parketta alátétlemez, 50x100 cm, 3 mm vtg., Cikkszám: T14301 | D4: 6.45 | E4: m² | F4: 0 | G4: 0 | H4: =ROUND(F4*D4,0) -> 0 | I4: =ROUND(G4*D4,0) -> 0 | K4: 420423835916 | L4: ÖN | M4: 42 | N4: 0.06
A5: 4 | B5: 42-042-4.3.2-0111702 | C5: Parkettafektetés, laminált padló (parkettapanel) úsztatott fektetése kiegyenlített aljzatra, (szegélyléccel együtt) ragasztás nélkül, hangszigetelt réteggel ellátva, HDF alapú laminált parketta, 8 mm vastag, többféle színben | D5: 6.45 | E5: m² | F5: 0 | G5: 0 | H5: =ROUND(F5*D5,0) -> 0 | I5: =ROUND(G5*D5,0) -> 0 | K5: 420420289131 | L5: ÖN | M5: 42 | N5: 0.36
A6: 5 | B6: 42-091-3.3 | C6: Műkő burkolatok tisztítása; Műkőből készült lábazat tisztítása JOS eljárással, 2.8-3.2 bar üstnyomással | D6: 6.85 | E6: m² | F6: 0 | G6: 0 | H6: =ROUND(F6*D6,0) -> 0 | I6: =ROUND(G6*D6,0) -> 0 | K6: 420910330174 | L6: ÖN | M6: 42 | N6: 0.46
C7: Munkanem összesen (HUF) | H7: =ROUND(SUM(H2:H6),0) -> 0 | I7: =ROUND(SUM(I2:I6),0) -> 0

Sheet 43.Bádogozás
A1: Ssz. | B1: Tételszám | C1: Tétel szövege | D1: Menny. | E1: Egység | F1: Anyag egységár | G1: Díj egységre | H1: Anyag összesen | I1: Díj összesen | J1: Megjegyzés | K1: ÉNGY kód | L1: K. jelző | M1: Munkanem | N1: Normaidő
A2: 1 | B2: 43-002-7.1 | C2: Teraszcsatorna szerelése, négyszögszelvényű,bármilyen kiterített szélességben, minősített ötvözött horganylemezből Hőszigetelés elkészítéséhez leszedés és felrakása a lefolyó csöveknek | D2: 18.4 | E2: m | F2: 0 | G2: 0 | H2: =ROUND(F2*D2,0) -> 0 | I2: =ROUND(G2*D2,0) -> 0 | M2: 43 | N2: 0.5
A3: 2 | B3: 43-003-8.3.1-0149647 | C3: Ablak- vagy szemöldökpárkány bevonatos alumínium lemezből, 50 cm kiterített szélességig, PREFALZ bevonatos alumínium lemezből szegély 0,7 mm vtg., kiterített szélesség: 40, sima felületű, standard színekben | D3: 15.62 | E3: m | F3: 0 | G3: 0 | H3: =ROUND(F3*D3,0) -> 0 | I3: =ROUND(G3*D3,0) -> 0 | K3: 430031807730 | L3: ÖN | M3: 43 | N3: 0.49
C4: Munkanem összesen (HUF) | H4: =ROUND(SUM(H2:H3),0) -> 0 | I4: =ROUND(SUM(I2:I3),0) -> 0

Sheet 44.Fa- és műanyag szerkezet el
A1: Ssz. | B1: Tételszám | C1: Tétel szövege | D1: Menny. | E1: Egység | F1: Anyag egységár | G1: Díj egységre | H1: Anyag összesen | I1: Díj összesen | J1: Megjegyzés | K1: ÉNGY kód | L1: K. jelző | M1: Munkanem | N1: Normaidő
A2: 1 | B2: 44-001-1.1.1.1-0131034 | C2: Fa beltéri nyílászárók elhelyezése, előre kihagyott falnyílásba, utólagos elhelyezéssel, tömítéssel (szerelvényezve, finom beállítással),MDF-CPL beltéri ajtó tokkal együtt névleges 90x210 cm mérettel Felső 1/3-ban üvegezett | D2: 1 | E2: db | F2: 0 | G2: 0 | H2: =ROUND(F2*D2,0) -> 0 | I2: =ROUND(G2*D2,0) -> 0 | M2: 44 | N2: 1.5
A3: 2 | B3: 44-090-61 | C3: Mobil térelválasztó tolófal Erősített fém harmonika ajtó-térelválasztó egyedi méretben 3,48x2,03 m Gyártó által választható felülettel (javasolt - bézs) | D3: 6.9 | E3: m² | F3: 0 | G3: 0 | H3: =ROUND(F3*D3,0) -> 0 | I3: =ROUND(G3*D3,0) -> 0 | M3: 44 | N3: 2
A4: 3 | B4: 44-011-1.1.1-0226356 | C4: Műanyag kültéri nyílászárók elhelyezése előre kihagyott falnyílásba, hőszigetelt, fokozott légzárású bejárati ajtó, tömítéssel (szerelvényezve, kilinccsel zárral, finom beállítással), 5,01-10,00 m kerület között, Aszimmetrikusan kifele nyíló bejárati ajtó, -balos 1360 mm x 2100 mm, felső egyharmadában-felében 3 rétegű savmart üvegezésű, egyik szárny szabad nyílásszélessége legalább 1000mm kell legyen, kívül színes (fa mintás)-belül fehér profillal | D4: 1 | E4: db | F4: 0 | G4: 0 | H4: =ROUND(F4*D4,0) -> 0 | I4: =ROUND(G4*D4,0) -> 0 | M4: 44 | N4: 2.2
A5: 4 | B5: 44-000-1.3 | C5: Fa vagy műanyag nyílászáró szerkezetek bontása, ajtó, ablak vagy kapu, 4,01-6,00 m² között | D5: 5.71 | E5: m² | F5: 0 | G5: 0 | H5: =ROUND(F5*D5,0) -> 0 | I5: =ROUND(G5*D5,0) -> 0 | K5: 440000355530 | L5: ÖN | M5: 44 | N5: 0.3
A6: 5 | B6: 44-090-3 | C6: Ablakokba új vasalat beépítése bukó-nyíló vasalt készítése, régi kiszedése szerelvényezéssel és beállítással (foglalkoztató-csoportszoba 2db, tornaszoba 2 db, öltöző, mosogató) | D6: 7 | E6: db | F6: 0 | G6: 0 | H6: =ROUND(F6*D6,0) -> 0 | I6: =ROUND(G6*D6,0) -> 0 | M6: 44 | N6: 5.2
C7: Munkanem összesen (HUF) | H7: =ROUND(SUM(H2:H6),0) -> 0 | I7: =ROUND(SUM(I2:I6),0) -> 0

Sheet 47.Felületképzés
A1: Ssz. | B1: Tételszám | C1: Tétel szövege | D1: Menny. | E1: Egység | F1: Anyag egységár | G1: Díj egységre | H1: Anyag összesen | I1: Díj összesen | J1: Megjegyzés | K1: ÉNGY kód | L1: K. jelző | M1: Munkanem | N1: Normaidő
A2: 1 | B2: 47-000-1.21.7.3.1-0419481 | C2: Belső festéseknél felület előkészítése, részmunkák; glettelés gipszes glettel, gipszkarton felületen, tagolatlan felületen, POLI-FARBE üvegszál erősített glettgipsz 0-6 mm, beltéri glettanyag, fehér | D2: 14.1 | E2: m² | F2: 0 | G2: 0 | H2: =ROUND(F2*D2,0) -> 0 | I2: =ROUND(G2*D2,0) -> 0 | K2: 470005121635 | L2: ÖN | M2: 47 | N2: 0.19
A3: 2 | B3: 47-000-1.21.5.1.1-0415517 | C3: Belső festéseknél felület előkészítése, részmunkák; glettelés cementbázisú glettel, vakolt felületen, tagolatlan felületen, Baumit GlemaFill, kül- és beltéri javítóhabarcs, 1-10 mm-es vastagságban, Cikkszám: 951724 | D3: 50 | E3: m² | F3: 0 | G3: 0 | H3: =ROUND(F3*D3,0) -> 0 | I3: =ROUND(G3*D3,0) -> 0 | K3: 470004075973 | L3: ÖN | M3: 47 | N3: 0.14
A4: 3 | B4: 47-000-1.3.1.1 | C4: Belső festéseknél felület előkészítése, részmunkák; vizes diszperziós falfesték lekaparása, bármilyen padozatú helységben, tagolatlan felületen | D4: 50 | E4: m² | F4: 0 | G4: 0 | H4: =ROUND(F4*D4,0) -> 0 | I4: =ROUND(G4*D4,0) -> 0 | K4: 470000451123 | L4: ÖN | M4: 47 | N4: 0.28
A5: 4 | B5: 47-011-15.1.1.3-0159011 | C5: Diszperziós festés (két rétegben) műanyag bázisú vizes-diszperziós fehér vagy gyárilag színezett festékkel, új vagy régi lekapart, előkészített alapfelületen, vakolaton, két rétegben, lépcsőházban, tagolatlan sima felületen, JUPOL Classic kiváló páraáteresztő-képességű, alacsony VOC tartalmú beltéri falfesték, Cikkszám: JPN15N | D5: 582.5 | E5: m² | F5: 0 | G5: 0 | H5: =ROUND(F5*D5,0) -> 0 | I5: =ROUND(G5*D5,0) -> 0 | K5: 470111251650 | L5: ÖN | M5: 47 | N5: 0.25
C6: Munkanem összesen (HUF) | H6: =ROUND(SUM(H2:H5),0) -> 0 | I6: =ROUND(SUM(I2:I5),0) -> 0

Sheet 48.Szigetelés
A1: Ssz. | B1: Tételszám | C1: Tétel szövege | D1: Menny. | E1: Egység | F1: Anyag egységár | G1: Díj egységre | H1: Anyag összesen | I1: Díj összesen | J1: Megjegyzés | K1: ÉNGY kód | L1: K. jelző | M1: Munkanem | N1: Normaidő
A2: 1 | B2: 48-010-2.3.1-0417610 | C2: Homlokzati hőszigetelés, üvegszövetháló-erősített komplett hőszigetelő rendszerrel, (ragasztó, hőszigetelés, simítóhabarcs, háló, alapozó, védőbevonat), mechanikai rögzítéssel, kiegészítő profilok külön tételben szerepelnek, egyenes élképzésű, homlokzati XPS hőszigetelő lapokkal, tagolatlan, sík falon, Baumit XPS 2 cm hőszig. vastagság (ProfiContact ragasztótapasz+XPS zárt cellás polisztirol+műa.beütőszeges dübel+StarTex üvegszövet+UniPrimer vakolatalapozó+MosaikTop K1,5 mm akrilgyanta kötőanyagú vékonyvakolat, alapszínek) Spaletta késíztése új bejárati ajtó előkészítésénél | D2: 3.72 | E2: m² | F2: 0 | G2: 0 | H2: =ROUND(F2*D2,0) -> 0 | I2: =ROUND(G2*D2,0) -> 0 | M2: 48 | N2: 1.2
A3: 2 | B3: 48-007-41.1.5.1-0154407 | C3: Födém; Padló hő-, hangszigetelő anyag elhelyezése, vízszintes felületen, nem járható födémre (zárófödém, padlásfödém), szálas szigetelő anyaggal (üveggyapot, kőzetgyapot), KNAUF INSULATION MPN általános kőzetgyapot szigetelőlap, 1000x600x100 mm | D3: 210 | E3: m² | F3: 0 | G3: 0 | H3: =ROUND(F3*D3,0) -> 0 | I3: =ROUND(G3*D3,0) -> 0 | K3: 480070570393 | L3: ÖN | M3: 48 | N3: 0.55
A4: 3 | B4: 48-007-41.1.5.1-0154412 | C4: Födém; Padló hő-, hangszigetelő anyag elhelyezése, vízszintes felületen, nem járható födémre (zárófödém, padlásfödém), szálas szigetelő anyaggal (üveggyapot, kőzetgyapot), KNAUF INSULATION MPN általános kőzetgyapot szigetelőlap, 1000x600x150 mm | D4: 210 | E4: m² | F4: 0 | G4: 0 | H4: =ROUND(F4*D4,0) -> 0 | I4: =ROUND(G4*D4,0) -> 0 | K4: 480070570420 | L4: ÖN | M4: 48 | N4: 0.55
A5: 4 | B5: 48-010-2.3.1-0417612 | C5: Homlokzati hőszigetelés, üvegszövetháló-erősített komplett hőszigetelő rendszerrel, (ragasztó, hőszigetelés, simítóhabarcs, háló, alapozó, védőbevonat), mechanikai rögzítéssel, kiegészítő profilok külön tételben szerepelnek, egyenes élképzésű, homlokzati XPS hőszigetelő lapokkal, tagolatlan, sík falon, Baumit XPS 12 cm hőszig. vastagság (ProfiContact ragasztótapasz+XPS zárt cellás polisztirol+műa.beütőszeges dübel+StarTex üvegszövet+UniPrimer vakolatalapozó+MosaikTop K1,5 mm akrilgyanta kötőanyagú vékonyvakolat, alapszínek) (udvar és északi homlokzaton) | D5: 7.5 | E5: m² | F5: 0 | G5: 0 | H5: =ROUND(F5*D5,0) -> 0 | I5: =ROUND(G5*D5,0) -> 0 | M5: 48 | N5: 2.08
A6: 5 | B6: 48-010-2.1.2.1-0416245 | C6: Homlokzati hőszigetelés, üvegszövetháló-erősített komplett hőszigetelő rendszerrel, (ragasztó, hőszigetelés, simítóhabarcs, háló, alapozó, védőbevonat), mechanikai rögzítéssel, kiegészítő profilok külön tételben szerepelnek, egyenes élképzésű, normál és perforált homlokzati EPS hőszigetelő lapokkal, mész/fehércement- vagy cementbázisú ragasztóba, tagolatlan, sík falon, Baumit OpenTherm 15 cm hőszig. vastagság (OpenContact ragasztótapasz+OpenTherm EPS 80 polisztirol+műa.beütőszeges dübel+StarTex üvegszövet+PremiumPrimer vakolatalapozó+OpenTop K1,5 mm szilikát kötőanyagú vékonyvakolat, I. színcsoport) | D6: 200 | E6: m² | F6: 0 | G6: 0 | H6: =ROUND(F6*D6,0) -> 0 | I6: =ROUND(G6*D6,0) -> 0 | K6: 480109633673 | L6: ÖN | M6: 48 | N6: 1.9
A7: 6 | B7: 48-021-1.51.2.3.1 | C7: Szigetelések rögzítése; Hőszigetelő táblák pontszerű mechanikai rögzítése, homlokzaton, vázkerámia vagy pórusbeton aljzatszerkezethez, műanyag vagy fém beütőszeges műanyag beütődübelekkel (Hőszigetelő rendszerhez tartozó rendszerazonos, gyártó által javasolt minőségben és nagyságban kell megválasztani, dübelpróbázva) | D7: 1800 | E7: db | F7: 0 | G7: 0 | H7: =ROUND(F7*D7,0) -> 0 | I7: =ROUND(G7*D7,0) -> 0 | M7: 48 | N7: 0.03
C8: Munkanem összesen (HUF) | H8: =ROUND(SUM(H2:H7),0) -> 0 | I8: =ROUND(SUM(I2:I7),0) -> 0

Sheet 90.Ideiglenes felületvédelem é
A1: Ssz. | B1: Tételszám | C1: Tétel szövege | D1: Menny. | E1: Egység | F1: Anyag egységár | G1: Díj egységre | H1: Anyag összesen | I1: Díj összesen | J1: Megjegyzés | K1: ÉNGY kód | L1: K. jelző | M1: Munkanem | N1: Normaidő
A2: 1 | B2: 90-008-1-0110202 | C2: Festés előtt burkolatok takarásának készítése, Takarás készítése fóliával | D2: 1.785 | E2: 100 m² | F2: 0 | G2: 0 | H2: =ROUND(F2*D2,0) -> 0 | I2: =ROUND(G2*D2,0) -> 0 | M2: 90 | N2: 0.6
C3: Munkanem összesen (HUF) | H3: =ROUND(SUM(H2:H2),0) -> 0 | I3: =ROUND(SUM(I2:I2),0) -> 0
