Workbook

Sheet Főösszesítő
A1: MEGGYESKOVÁCSI KÖZSÉG ÖNKORMÁNYZATA | C1: Készítette:
A2: 9757 MEGGYESKOVÁCSI, MÁRCIUS 15. TÉR 1.
C4: Készült:
C5: Érvényes:
A8: MEGGYESKOVÁCSI ÓVODA ENERGETIKAI
A9: KORSZERŰSÍTÉSE ÉS FELÚJÍTÁSA
A10: MAGYAR FALU PROGRAM KERETÉBEN
A13: Költségvetés főösszesítő
A14: Megnevezés | C14: Anyagköltség | D14: Díjköltség
A15: 1 Építmény közvetlen költségei | C15: ='Munkanem összesítő'!C4 -> 0 | D15: ='Munkanem összesítő'!D4 -> 0
A16: 2.1 ÁFA vetítési alap | C16: =ROUND(C15+D15,0) -> 0
A17: 2.2 ÁFA | B17: 0.27 | C17: =ROUND(C16*B17,0) -> 0
A18: 3 A munka ára (HUF) | C18: =ROUND(C17+C16,0) -> 0
C25: Aláírás

Sheet Munkanem összesítő
A1: Ssz. | B1: Megnevezés | C1: Anyagköltség | D1: Díjköltség
A2: 71 | B2: Villanyszerelési munkálatok | C2: ='71. Villanyszerelés'!H13 -> 0 | D2: ='71. Villanyszerelés'!I13 -> 0
A3: 81 | B3: Gépészeti szerelések | C3: ='81. Gépészet'!G36 -> 0 | D3: ='81. Gépészet'!H36 -> 0
B4: Összesen (HUF) | C4: =ROUND(SUM(C2:C3),0) -> 0 | D4: =ROUND(SUM(D2:D3),0) -> 0

Sheet 71. Villanyszerelés
A1: Ssz. | B1: Tételszám | C1: Tétel szövege | D1: Menny. | E1: Egység | F1: Anyag egységár | G1: Díj egységre | H1: Anyag összesen | I1: Díj összesen
A2: 1 | B2: K-tétel | C2: Összeszerelt mérőszekrény felszerelése | D2: 1 | E2: db | F2: 0 | G2: 0 | H2: =ROUND(F2*D2,0) -> 0 | I2: =ROUND(G2*D2,0) -> 0
A3: 2 | B3: K-tétel | C3: 2colos horganyzott cső felszerelése | D3: 1 | E3: db | F3: 0 | G3: 0 | H3: =ROUND(F3*D3,0) -> 0 | I3: =ROUND(G3*D3,0) -> 0
A4: 3 | B4: K-tétel | C4: Horganyzott cső kikötése | D4: 1 | E4: db | F4: 0 | G4: 0 | H4: =ROUND(F4*D4,0) -> 0 | I4: =ROUND(G4*D4,0) -> 0
A5: 4 | B5: K-tétel | C5: Horganyzott cső kibélelése | D5: 12 | E5: fm | F5: 0 | G5: 0 | H5: =ROUND(F5*D5,0) -> 0 | I5: =ROUND(G5*D5,0) -> 0
A6: 5 | B6: K-tétel | C6: Földelő beépítése | D6: 1 | E6: db | F6: 0 | G6: 0 | H6: =ROUND(F6*D6,0) -> 0 | I6: =ROUND(G6*D6,0) -> 0
B7: K-tétel | C7: Betápkábel kiépítése | D7: 3 | E7: fm | F7: 0 | G7: 0 | H7: =ROUND(F7*D7,0) -> 0 | I7: =ROUND(G7*D7,0) -> 0
B8: K-tétel | C8: Elosztó szekrény felszerelése ,bekötése | D8: 1 | E8: db | F8: 0 | G8: 0 | H8: =ROUND(F8*D8,0) -> 0 | I8: =ROUND(G8*D8,0) -> 0
A9: 6 | B9: K-tétel | C9: Fénycsőarmatura átszerelése ledes világításra | D9: 32 | E9: db | F9: 0 | G9: 0 | H9: =ROUND(F9*D9,0) -> 0 | I9: =ROUND(G9*D9,0) -> 0
B10: K-tétel | C10: TW Solar 435W monokristályos napelem panel, extra 4 mm szolárüveg, Méret: 1994 mm x 1130 mm x 30 mm, AC/DC oldali villanyszereléssel, leválasztás kialakítása, védőföldelés és EPH kialakítása, roszdamentes acál tartószerkezettel ferdetetőre rögzítve, kompletten, telepítés, beüzemelés (helyettesítő megoldás ajánlása esetén 10,44 kW összteljesítményt elérő napelem panelek - kérjük a típust és a darabszámot külön megadni) | D10: 24 | E10: db | F10: 0 | G10: 0 | H10: =ROUND(F10*D10,0) -> 0 | I10: =ROUND(G10*D10,0) -> 0
B11: K-tétel | C11: Sigenergy Sigenstor TCP 12 inverter, 3 fázisú hybrid aszim.inverter max. 12000W AC teljesítménnyel, 10 év garancia, SmartMeter, vagy ezzel egyenértékű hybrid inverter | D11: 1 | E11: db | F11: 0 | G11: 0 | H11: =ROUND(F11*D11,0) -> 0 | I11: =ROUND(G11*D11,0) -> 0
B12: K-tétel | C12: Tervezés, engedélyeztetés, ÉV mérések | D12: 1 | E12: db | F12: 0 | G12: 0 | H12: =ROUND(F12*D12,0) -> 0 | I12: =ROUND(G12*D12,0) -> 0
C13: Munkanem összesen (HUF) | H13: =ROUND(SUM(H2:H12),0) -> 0 | I13: =ROUND(SUM(I2:I12),0) -> 0

Sheet 81. Gépészet
A1: Tételszám | B1: Tétel szövege | C1: Menny. | D1: Egység | E1: Anyag egységár | F1: Díj egységre | G1: Anyag összesen | H1: Díj összesen
A2: 1 | B2: Szerelvények bontása 1” - 11/4” | C2: 8 | D2: db | E2: 0 | F2: 0 | G2: =ROUND(E2*C2,0) -> 0 | H2: =ROUND(F2*C2,0) -> 0
A3: 2 | B3: Hőszigetelt csővezeték bontása 1” - 11/4” | C3: 20 | D3: m | E3: 0 | F3: 0 | G3: =ROUND(E3*C3,0) -> 0 | H3: =ROUND(F3*C3,0) -> 0
A4: 3 | B4: Alumínium füstcső és idom bontása | C4: 2 | D4: db | E4: 0 | F4: 0 | G4: =ROUND(E4*C4,0) -> 0 | H4: =ROUND(F4*C4,0) -> 0
A5: 4 | B5: Kombi fali gázkazán bontása, elszállítással | C5: 1 | D5: db | E5: 0 | F5: 0 | G5: =ROUND(E5*C5,0) -> 0 | H5: =ROUND(F5*C5,0) -> 0
A6: 5 | B6: Kompakt és helytakarékos kültéri egység az osztott hűtési körű aro- THERM Split plus hőszivattyúhoz. Felszereltsége: inverteres működésű kompresszor, elektronikus expanziós szelep, 4-utas váltószelep. Lehetőség van bivalens alternatív vagy párhuzamos működésre. Trivalens funkció: kombinációban a VRC 700 vagy 720 szabályozóval (költségoptimalizált működés a megadott energiaárak alapján (triVAI érték)). A beépített aktív hűtési funkciónak köszönhetően nyáron is magas lakótér komfort. Egyszerű szállítás és komplikációktól mentes beállítás. Szezonális helyiségfűtés energiahatékonysági osztály: A+++, maximális zajszint: 48 dB(A) – átlagos éghajlat esetén. Névleges fűtési teljesítmény: 2,86-7,06 kW között, COP: 2,8-3,3 (mindkét adat A-7/W35 üzemállapotra érvényes). Befoglaló méretek (szé/ma/mé: 1100 x 960 x 450 mm), nettó tömeg: 100 kg. Legnagyobb villamos-energia felvétel: 3,2 kW, névleges áramfelvétel: max. 14 A. Hűtőközeg típusa: R32, töltete: 1,5 kg. Működési határok: fűtés -25°C…+43°C, hűtés 15°C…+46°C között. Csatlakozások mérete: 1/2" (forró gáz) és 1/4" (folyadék). Elhelyezve, bekötve és beüzemelve. Gépalap készítése helyszíni betonból, vasalással, 2 db, 60 cm-es rezgéscsillapító talapzattal. VAILLANT aroTHERM Split VWL 75/8.2 AS | C6: 1 | D6: db | E6: 0 | F6: 0 | G6: =ROUND(E6*C6,0) -> 0 | H6: =ROUND(F6*C6,0) -> 0
A7: 6 | B7: VWL 57/8.2 IS S1 hidraulikus állomás egy opcionális modul hibrid kialakítás esetén beépített hőszivattyú kezelőfelülettel és 3-utas váltószeleppel az aroTHERM Split plus VWL 58/8.2 AS kültéri egységhez. A rendszer kialakításának és konfigurációjának függvényében ez a modul a hőszivattyú hőellátását támogatja. Felszereltsége: eBUS sorkapocs, szöveges menürendszerrel ellátott készülékkezelő-felület, fűtési nyomásszenzor, 10 literes fűtési tágulási tartály, 3-utas váltószelep fűtésre/HMV-re, fűtési biztonsági lefúvató szelep, előremenő-hőmérsékletérzékelő és elektromos bekötőkábel. Befoglaló méretek (szé/ma/mé): 440 x 777 x 384 mm, nettó tömeg: 41 kg. Névleges villamos teljesítmény: 5,5 kW, elektromos védelem: IP 10 B, csatlakozások (fűtés és tároló): G 1”. Elhelyezve, bekötve és beüzemelve. VAILLANT VWL 77/8.2 IS S1 (fali beltéri egység 7,06 kW-os készülékhez) vagy ezzel egyenértékű | C7: 1 | D7: db | E7: 0 | F7: 0 | G7: =ROUND(E7*C7,0) -> 0 | H7: =ROUND(F7*C7,0) -> 0
A8: 7 | B8: Split rendszerű levegő/víz hőszivattyú bel- és kültéri egység összecsövezése egyenként 20,0 m hosszú 6 mm átmérőjű folyadék és 10 mm átmérőjű hőszigetelt gáz rézcsővel, hűtőközeggel való feltöltéssel, üzembehehyezéssel.. | C8: 1 | D8: db | E8: 0 | F8: 0 | G8: =ROUND(E8*C8,0) -> 0 | H8: =ROUND(F8*C8,0) -> 0
A9: 8 | B9: Fűtési és hűtési üzemre egyaránt alkalmas, páradiffúzió ellen védett hőszigetelésű, hőszivattyús rendszerekben használható puffer (hidraulikus váltóként vagy a visszatérő ággal sorba kötött tartályként használva), a minimális fűtővíz tömegáram biztosítására. Falra szerelhető vagy földre állítható, optimális belső rétegződést elősegítő belső terelőlemezekkel. Szállítási terjedelem: 4 db hőszigetelt sapka a nem használt csatlakozásokra, 1 db hőszigetelő elem az érzékelő merülő hüvelyéhez, 1 db hőszigetelő sapka a légtelenítő szelep számára, 6 db tömítés, 4 db vakdugó és fali tartó. Szállítási terjedelme nem tartalmazza a VR 10 hőfokérzékelőt. A VP RW 45 aktív hűtésre nem kombinálható a flexoTHERM exclusive vagy flexoCOMPACT exclusive hőszivattyúkkal azok minimális működési ideje miatt! A puffer teljes űrtartalma: 45 liter, energiahatékonysági osztály (A+ - F): "B". Befoglaló méretek (magasság/szélesség/mélység): 888/361/361 mm, nettó tömeg: 25 kg, hidraulikus csatlakozások: G 11. Felszerelve és bekötve. VAILLANT VP RW 45/2 B puffer fűtésre/aktív hűtésre vagy ezzel egyenértékű | C9: 1 | D9: db | E9: 0 | F9: 0 | G9: =ROUND(E9*C9,0) -> 0 | H9: =ROUND(F9*C9,0) -> 0
A10: 9 | B10: sensoCOMFORT VRC 720 | C10: 1 | D10: db | E10: 0 | F10: 0 | G10: =ROUND(E10*C10,0) -> 0 | H10: =ROUND(F10*C10,0) -> 0
A11: 10 | B11: VR 71 keverő- és szolármodul (egy (kevert) fűtési körre) | C11: 1 | D11: db | E11: 0 | F11: 0 | G11: =ROUND(E11*C11,0) -> 0 | H11: =ROUND(F11*C11,0) -> 0
A12: 11 | B12: VR 32/3 moduláló eBUS csatoló | C12: 1 | D12: db | E12: 0 | F12: 0 | G12: =ROUND(E12*C12,0) -> 0 | H12: =ROUND(F12*C12,0) -> 0
A13: 12 | B13: Kizárólag WLAN hálózaton (2.4 GHz-es routerrel) alkalmazható kommunikációs egység, amely egykörös, időjárás-követő szabályozóként is használható eBUS kommunikációra képes hőtermelőkkel (gáz- és elektromos fali készülékek), amennyiben a rendszer nem tartalmaz sensoHOME vagy sensoCOMFORT szabályozót. EEBUS opció és rádiófrekvenciás kapcsolat a sensoROOM (VRT 51f) helyiséghőmérséklet szabályozóval. Kezelés és programozás a myVAILLANT App segítségével, a Quick Veto azonban a csatlakoztatott helyiséghőmérséklet szabályozón is lehetséges. Befoglaló méretek: 96 x 122 x 36 mm (magasság/ szélesség/mélység); IP védelem: 21. Szállítási terjedelme tartalmazza az Y-kábelt az IoniDetect sorozatú készülékek számára, illetve a villásdugóval ellátott hálózati csatlakozókábelt (2m) is. MyVAILLANT connect (VR 940f) vagy ezzel egyenértékű | C13: 1 | D13: db | E13: 0 | F13: 0 | G13: =ROUND(E13*C13,0) -> 0 | H13: =ROUND(F13*C13,0) -> 0
... A35: 35 | B35: Próbafűtés, beszabályozás | C35: 1 | D35: db | E35: 0 | F35: 0 | G35: =ROUND(E35*C35,0) -> 0 | H35: =ROUND(F35*C35,0) -> 0
B36: Munkanem összesen (HUF) | G36: =ROUND(SUM(G2:G35),0) -> 0 | H36: =ROUND(SUM(H2:H35),0) -> 0
